BEGIN:VCALENDAR
METHOD:PUBLISH
VERSION:2.0
CALSCALE:GREGORIAN
PRODID:-//NONSGML WPForms//NONSGML Sugar Calendar Feeds v3.11.0//EN
X-WR-CALNAME:Bojovka se zahradními skřítky
X-WR-CALDESC:Krafferova Zahrada
X-WR-TIMEZONE:Europe/Prague
BEGIN:VTIMEZONE
TZID:Europe/Prague
BEGIN:DAYLIGHT
TZOFFSETFROM:+0100
TZOFFSETTO:+0200
DTSTART:20260329T010000
TZNAME:CEST
END:DAYLIGHT
BEGIN:STANDARD
TZOFFSETFROM:+0200
TZOFFSETTO:+0100
DTSTART:20261025T010000
TZNAME:CET
END:STANDARD
END:VTIMEZONE
BEGIN:VTIMEZONE
TZID:Europe/Prague
BEGIN:DAYLIGHT
TZOFFSETFROM:+0100
TZOFFSETTO:+0200
DTSTART:20260329T010000
TZNAME:CEST
END:DAYLIGHT
BEGIN:STANDARD
TZOFFSETFROM:+0200
TZOFFSETTO:+0100
DTSTART:20261025T010000
TZNAME:CET
END:STANDARD
END:VTIMEZONE
BEGIN:VEVENT
SUMMARY:Bojovka se zahradními skřítky
DESCRIPTION:Připravili jsme pro vás Bojovku se zahradními skřítky\,
  kterou si k nám můžete přijít zahrát kdykoliv budete chtít. Bojo
 vka není na čas a nemusíte ji ani celou splnit za jednu návštěvu.\
 n\nBojovka obsahuje pravidla s mapkou\, zadání úkolů a 20 samolepek.
  Některé samolepky mají své místo v mapce jiné máte jako odměnu 
 pro radost k nalepení\, kam budete chtít.\n\nNa závěr  bojovky zís
 káte drobnou odměnu.\n\nIlustrace pro bojovku vytvořila Linda Markov
 \, autorka knížky O zahradním skřítkovi. (Knížka je v prodeji v 
 květinářství.)\n\nKe splnění bojovky není nutné projít všechny
  úkoly\, celkem jich najdete v zahradě 20 a tak věříme\, že si vyb
 erete ty\, které vám sednou nejlépe. Úkoly mají různou obtížnost
 \, aby bojovky bavila děti různého věku. Úkoly jsou často vymyšle
 ny tak\, aby se děti něco nového dozvěděly\, nemusí všechno znát
  a vědět hned napoprvé.\n\n\n\n\n\n\n\n\n\n\nDoporučujeme\, aby dět
 i mladší 8 let doprovázeli rodiče. U některých úkolů můžete vy
 užít nápovědu.\n\nVěříme\, že vás bojovka provede zahradou zase
  trochu jinak\, a že si plnění úkolů spolu se skřítky Hlízem a C
 hocholíkem užijete.\n\nCena Bojovky se zahradními skřítky je 120 K
  a je k zakoupení v květinářství Krafferovy zahrady.
URL;VALUE=URI:https://krafferovazahrada.cz/events/bojovka-se-zahradnimi-
 skritky/
UID:urn:uuid:c60013d2-076b-4a5d-92ef-fb4758187503
STATUS:CONFIRMED
ORGANIZER:
DTSTAMP:20260420T012345Z
DTSTART;VALUE=DATE:20260501
DTEND;VALUE=DATE:20261130
END:VEVENT
END:VCALENDAR