BEGIN:VCALENDAR
METHOD:PUBLISH
VERSION:2.0
CALSCALE:GREGORIAN
PRODID:-//NONSGML WPForms//NONSGML Sugar Calendar Feeds v3.11.0//EN
X-WR-CALNAME:Čtenářský klub
X-WR-CALDESC:Krafferova Zahrada
X-WR-TIMEZONE:Europe/Prague
BEGIN:VTIMEZONE
TZID:Europe/Prague
BEGIN:DAYLIGHT
TZOFFSETFROM:+0100
TZOFFSETTO:+0200
DTSTART:20260329T010000
TZNAME:CEST
END:DAYLIGHT
END:VTIMEZONE
BEGIN:VTIMEZONE
TZID:Europe/Prague
BEGIN:DAYLIGHT
TZOFFSETFROM:+0100
TZOFFSETTO:+0200
DTSTART:20260329T010000
TZNAME:CEST
END:DAYLIGHT
END:VTIMEZONE
BEGIN:VEVENT
SUMMARY:Čtenářský klub
DESCRIPTION:Setkání čtenářů\, kteří si povídají o předem vybr
 ané knížce. Tentokrát: Delia Owens: Kde zpívají raci.\nAkce není 
 koncipovaná jako přednáška ani čtení\, jedná se o přátelské po
 vídání. Kdykoliv se můžou přidat noví členové\, můžete přij
 t i jednorázově. Je dobré mít daný titul dopředu přečtený.
URL;VALUE=URI:https://krafferovazahrada.cz/events/ctenarsky-klub-2/
UID:urn:uuid:5f3e2c35-b313-4ad9-8118-3529df2d58c3
STATUS:CONFIRMED
ORGANIZER:
DTSTAMP:20260420T011858Z
DTSTART;TZID=Europe/Prague:20260618T180000
DTEND;TZID=Europe/Prague:20260618T193000
END:VEVENT
END:VCALENDAR