BEGIN:VCALENDAR
METHOD:PUBLISH
VERSION:2.0
CALSCALE:GREGORIAN
PRODID:-//NONSGML WPForms//NONSGML Sugar Calendar Feeds v3.11.0//EN
X-WR-CALNAME:Divadlo v zahradÄ› 2026
X-WR-CALDESC:Krafferova Zahrada
X-WR-TIMEZONE:Europe/Prague
BEGIN:VTIMEZONE
TZID:Europe/Prague
BEGIN:DAYLIGHT
TZOFFSETFROM:+0100
TZOFFSETTO:+0200
DTSTART:20260329T010000
TZNAME:CEST
END:DAYLIGHT
END:VTIMEZONE
BEGIN:VTIMEZONE
TZID:Europe/Prague
BEGIN:DAYLIGHT
TZOFFSETFROM:+0100
TZOFFSETTO:+0200
DTSTART:20260329T010000
TZNAME:CEST
END:DAYLIGHT
END:VTIMEZONE
BEGIN:VEVENT
SUMMARY:Divadlo v zahradÄ› 2026
DESCRIPTION:DivadelnÃ­ festival pro celou rodinu s hlavnÃ­m i doprovodnÃ
 ½m programem\, letos se mÅ¯Å¾ete dÄ›Å¡it na divadlo Puk\, MusaÅ¡i Entert
 ainment Company a Filipa Tellera. Podrobnosti brzy doplnÃ­me.
URL;VALUE=URI:https://krafferovazahrada.cz/events/divadlo-v-zahrade-2026
 /
UID:urn:uuid:c1cd5707-f5b6-4a24-a51a-1474fa10c57b
STATUS:CONFIRMED
ORGANIZER:
DTSTAMP:20260420T012007Z
DTSTART;VALUE=DATE:20260711
END:VEVENT
END:VCALENDAR