BEGIN:VCALENDAR
METHOD:PUBLISH
VERSION:2.0
CALSCALE:GREGORIAN
PRODID:-//NONSGML WPForms//NONSGML Sugar Calendar Feeds v3.11.0//EN
X-WR-CALNAME:Jarní cyklojízda
X-WR-CALDESC:Krafferova Zahrada
X-WR-TIMEZONE:Europe/Prague
BEGIN:VTIMEZONE
TZID:Europe/Prague
BEGIN:DAYLIGHT
TZOFFSETFROM:+0100
TZOFFSETTO:+0200
DTSTART:20260329T010000
TZNAME:CEST
END:DAYLIGHT
END:VTIMEZONE
BEGIN:VTIMEZONE
TZID:Europe/Prague
BEGIN:DAYLIGHT
TZOFFSETFROM:+0100
TZOFFSETTO:+0200
DTSTART:20260329T010000
TZNAME:CEST
END:DAYLIGHT
END:VTIMEZONE
BEGIN:VEVENT
SUMMARY:Jarní cyklojízda
DESCRIPTION:Zveme vás na první ročník hradecké cyklojízdy. Pojďme
  (si) společně připomenout\, že kola do našeho města patří\, a j
 sou vhodným a užívaným prostředkem pro pohyb po něm. Pokud jste le
 tos ještě na kole nebyli\, můžete s námi zahájit svojí letošní 
 cyklistickou sezónu a rozcvičit se na květnovou výzvu Do práce na k
 ole.\nSejdeme se v neděli 26.4. v 15:00 na sídlišti Vajgar mezi pošt
 ou a prodejnou COOP.\nSpolečně se projedeme městem a cyklojízdu zako
 nčíme v Krafferově zahradě.\nTam bude připravený ohýnek s možnos
 tí opečení donesených pochutin a kávový karavan s nápoji. V cíli
  se můžete těšit na doprovodné aktivity\, např. swap (bazárek) cy
 klistického vybavení. Pokud máte doma věci\, které byste rádi daro
 vali nebo vyměnili\, neváhejte je donést.\nCelá akce je vhodná pro 
 rodiny s dětmi.\nTěšíme se na společnou oslavu městské cyklistiky
 .
URL;VALUE=URI:https://krafferovazahrada.cz/events/jarni-cyklojizda/
UID:urn:uuid:d18857e2-5ae8-42a6-84f5-6f4726f72b62
STATUS:CONFIRMED
ORGANIZER:
DTSTAMP:20260420T012008Z
DTSTART;TZID=Europe/Prague:20260426T150000
DTEND;TZID=Europe/Prague:20260426T170000
END:VEVENT
END:VCALENDAR