BEGIN:VCALENDAR
METHOD:PUBLISH
VERSION:2.0
CALSCALE:GREGORIAN
PRODID:-//NONSGML WPForms//NONSGML Sugar Calendar Feeds v3.11.0//EN
X-WR-CALNAME:Jarní pop-up
X-WR-CALDESC:Krafferova Zahrada
X-WR-TIMEZONE:Europe/Prague
BEGIN:VTIMEZONE
TZID:Europe/Prague
BEGIN:DAYLIGHT
TZOFFSETFROM:+0100
TZOFFSETTO:+0200
DTSTART:20260329T010000
TZNAME:CEST
END:DAYLIGHT
END:VTIMEZONE
BEGIN:VTIMEZONE
TZID:Europe/Prague
BEGIN:DAYLIGHT
TZOFFSETFROM:+0100
TZOFFSETTO:+0200
DTSTART:20260329T010000
TZNAME:CEST
END:DAYLIGHT
END:VTIMEZONE
BEGIN:VEVENT
SUMMARY:Jarní pop-up
DESCRIPTION:Akce plná skvělých gastronomických zážitků\, odpočin
 ku a jarní atmosféry\, to je Jarní pop-up\, který pro vás chystáme
  v Krafferově zahradě v sobotu 9. května.\n\nRáno od 10 do 12 hodin
  budeme hostit Férovou snídani\, kterou pořádá Charita Jindřichů
 v Hradec a Čajovna u zámku (v jejímž Fair-trade obchodě se můžete
  na snídani i předem vybavit). Piknikové setkání\, které se koná 
 pod záštitou značky Fairtrade připomíná nelehké postavení pěsti
 telů kávy\, kakaa nebo banánů v zemích Afriky\, Asie a Latinské Am
 eriky. Více informací najdete na webových stránkách www.fairtrade.
 cz.\n\nVe 14 hodin zahájí odpolední program Adam Obrátil a Petra St
 řelecká z kavárny a pražírny INDUSTRA.COFFEE svým povídáním o
  kávě – jak si ji užít\, jak ji připravovat i o tom\, kam za káv
 ou\, kterou následně praží\, jezdí do světa. Vzhledem k tomu\, ž
 e oba patří k baristické špičce\, určitě půjde o zajímavé inf
 ormace. Petra Střelecká třikrát vyhrála Czech Brewers Cup a jako j
 ediná žena se v roce 2017 probojovala do finále World Brewers Cup\, 
 což z ní činí jednu z nejlepších baristek na světe. V zahradě
  si budete moci zakoupit i její knihu Filtrovaná káva. A co je podle 
 nás ta nejlepší zpráva\, můžete využít i kávové ochutnávky\,
  která bude na přednášku navazovat.\n\nDezerty ke kávě nabídne Kr
 afferova kavárna\, která pro Vás bude stejně jako loni celé léto p
 řipravovat kávu právě z pražírny INDUSTRA.COFFEE. A tentokrát ne
 zůstane jen u dezertů.  V zahradě najdete i jarní speciality z k
 uchyně Výletní restaurace Rudolfov. Ta stejně jako my klade důraz n
 a lokálnost\, vysokou kvalitu i ducha místa\, kde se jídla podávají
 .\n\nOd 15 hodin bude hrát DJ cube positive a po celé odpoledne budo
 u k dispozici dětské dílničky. Děti tedy můžete vzít s sebou 
 a současně si vychutnat klidnou chvíli v jarní zahradě s dobrým 
 jídlem i pitím. Těšíme se na Vás!
URL;VALUE=URI:https://krafferovazahrada.cz/events/jarni-pop-up/
UID:urn:uuid:a8681dc9-48ac-4d25-b143-f5e2b49933bd
STATUS:CONFIRMED
ORGANIZER:
DTSTAMP:20260420T011721Z
DTSTART;TZID=Europe/Prague:20260509T100000
DTEND;TZID=Europe/Prague:20260509T180000
LOCATION:Pražská 1286
END:VEVENT
END:VCALENDAR