BEGIN:VCALENDAR
METHOD:PUBLISH
VERSION:2.0
CALSCALE:GREGORIAN
PRODID:-//NONSGML WPForms//NONSGML Sugar Calendar Feeds v3.11.0//EN
X-WR-CALNAME:Srpen v zahradě 2026
X-WR-CALDESC:Krafferova Zahrada
X-WR-TIMEZONE:Europe/Prague
BEGIN:VTIMEZONE
TZID:Europe/Prague
BEGIN:DAYLIGHT
TZOFFSETFROM:+0100
TZOFFSETTO:+0200
DTSTART:20260329T010000
TZNAME:CEST
END:DAYLIGHT
END:VTIMEZONE
BEGIN:VTIMEZONE
TZID:Europe/Prague
BEGIN:DAYLIGHT
TZOFFSETFROM:+0100
TZOFFSETTO:+0200
DTSTART:20260329T010000
TZNAME:CEST
END:DAYLIGHT
END:VTIMEZONE
BEGIN:VEVENT
SUMMARY:Srpen v zahradě 2026
DESCRIPTION:Letos se můžete těšit na živé vystoupení podcastu Buc
 hty čtou i na letní kino\, kde uvidíte film Prázdniny v Římě. Chy
 stáme i další program\, o kterém Vám dáme brzy vědět.
URL;VALUE=URI:https://krafferovazahrada.cz/events/srpen-v-zahrade-2026/
UID:urn:uuid:fec54187-c436-4f70-968a-c50d0bb7ff07
STATUS:CONFIRMED
ORGANIZER:
DTSTAMP:20260420T012007Z
DTSTART;VALUE=DATE:20260822
END:VEVENT
END:VCALENDAR