BEGIN:VCALENDAR
METHOD:PUBLISH
VERSION:2.0
CALSCALE:GREGORIAN
PRODID:-//NONSGML WPForms//NONSGML Sugar Calendar Feeds v3.11.0//EN
X-WR-CALNAME:Víkend otevřených zahrad 2026
X-WR-CALDESC:Krafferova Zahrada
X-WR-TIMEZONE:Europe/Prague
BEGIN:VTIMEZONE
TZID:Europe/Prague
BEGIN:DAYLIGHT
TZOFFSETFROM:+0100
TZOFFSETTO:+0200
DTSTART:20260329T010000
TZNAME:CEST
END:DAYLIGHT
END:VTIMEZONE
BEGIN:VTIMEZONE
TZID:Europe/Prague
BEGIN:DAYLIGHT
TZOFFSETFROM:+0100
TZOFFSETTO:+0200
DTSTART:20260329T010000
TZNAME:CEST
END:DAYLIGHT
END:VTIMEZONE
BEGIN:VEVENT
SUMMARY:Víkend otevřených zahrad 2026
DESCRIPTION:Oslavy celoevropského svátku otevírání zahrad v Kraffer
 ově zahradě. Jako každý rok Vás čekají komentované prohlídky a 
 bohatý doprovodný program\, který již brzy zveřejníme.
URL;VALUE=URI:https://krafferovazahrada.cz/events/vikend-otevrenych-zahr
 ad-2026/
UID:urn:uuid:7bceab71-82bd-4bd0-bbdf-3c11ed3ae57f
STATUS:CONFIRMED
ORGANIZER:
DTSTAMP:20260420T012023Z
DTSTART;VALUE=DATE:20260613
DTEND;VALUE=DATE:20260614
END:VEVENT
END:VCALENDAR