BEGIN:VCALENDAR
VERSION:2.0
PRODID:-//Krafferova Zahrada - ECPv6.15.20//NONSGML v1.0//EN
CALSCALE:GREGORIAN
METHOD:PUBLISH
X-WR-CALNAME:Krafferova Zahrada
X-ORIGINAL-URL:https://krafferovazahrada.cz
X-WR-CALDESC:Akce na Krafferova Zahrada
REFRESH-INTERVAL;VALUE=DURATION:PT1H
X-Robots-Tag:noindex
X-PUBLISHED-TTL:PT1H
BEGIN:VTIMEZONE
TZID:Europe/Prague
BEGIN:DAYLIGHT
TZOFFSETFROM:+0100
TZOFFSETTO:+0200
TZNAME:CEST
DTSTART:20240331T010000
END:DAYLIGHT
BEGIN:STANDARD
TZOFFSETFROM:+0200
TZOFFSETTO:+0100
TZNAME:CET
DTSTART:20241027T010000
END:STANDARD
BEGIN:DAYLIGHT
TZOFFSETFROM:+0100
TZOFFSETTO:+0200
TZNAME:CEST
DTSTART:20250330T010000
END:DAYLIGHT
BEGIN:STANDARD
TZOFFSETFROM:+0200
TZOFFSETTO:+0100
TZNAME:CET
DTSTART:20251026T010000
END:STANDARD
BEGIN:DAYLIGHT
TZOFFSETFROM:+0100
TZOFFSETTO:+0200
TZNAME:CEST
DTSTART:20260329T010000
END:DAYLIGHT
BEGIN:STANDARD
TZOFFSETFROM:+0200
TZOFFSETTO:+0100
TZNAME:CET
DTSTART:20261025T010000
END:STANDARD
END:VTIMEZONE
BEGIN:VEVENT
DTSTART;TZID=Europe/Prague:20250622T180000
DTEND;TZID=Europe/Prague:20250622T191500
DTSTAMP:20260420T195652
CREATED:20250617T144811Z
LAST-MODIFIED:20250617T144811Z
UID:4335-1750615200-1750619700@krafferovazahrada.cz
SUMMARY:Jóga v Krafferově zahradě
DESCRIPTION:Cvičení jógy s lektorem Karlem Neradem. Rezervace ZDE.
URL:https://krafferovazahrada.cz/udalost/joga-v-krafferove-zahrade-2/
END:VEVENT
BEGIN:VEVENT
DTSTART;TZID=Europe/Prague:20250619T150000
DTEND;TZID=Europe/Prague:20250619T170000
DTSTAMP:20260420T195652
CREATED:20250617T150415Z
LAST-MODIFIED:20250617T150443Z
UID:4363-1750345200-1750352400@krafferovazahrada.cz
SUMMARY:Hraní všemi smysly
DESCRIPTION:Dopolední a odpolední zábavné tématické lekce pro děti.\nSenzorické hraní je jednou z nejpřirozenějších a nejúčinnějších cest k učení\, protože zahrnuje aktivní účast\, objevování a experimentování. Nabízí rozmanité zážitky a tím podporuje celkový vývoj dítěte.\nKromě poznávání různých struktur\, rozvoje kognitivních schopností či jazykových dovedností\, podněcují naše lekce také k rozvoji hrubé motoriky a tvořivosti.\n\n\nLekce se konají nepravidelně s ohledem na počasí. Aktuální téma a vstupenky naleznete ZDE.
URL:https://krafferovazahrada.cz/udalost/hrani-vsemi-smysly-2/
END:VEVENT
BEGIN:VEVENT
DTSTART;TZID=Europe/Prague:20250619T090000
DTEND;TZID=Europe/Prague:20250619T110000
DTSTAMP:20260420T195652
CREATED:20250617T150320Z
LAST-MODIFIED:20250617T150320Z
UID:4360-1750323600-1750330800@krafferovazahrada.cz
SUMMARY:Hraní všemi smysly
DESCRIPTION:Dopolední a odpolední zábavné tématické lekce pro děti.\nSenzorické hraní je jednou z nejpřirozenějších a nejúčinnějších cest k učení\, protože zahrnuje aktivní účast\, objevování a experimentování. Nabízí rozmanité zážitky a tím podporuje celkový vývoj dítěte.\nKromě poznávání různých struktur\, rozvoje kognitivních schopností či jazykových dovedností\, podněcují naše lekce také k rozvoji hrubé motoriky a tvořivosti.\n\n\nLekce se konají nepravidelně s ohledem na počasí. Aktuální téma a vstupenky naleznete ZDE.
URL:https://krafferovazahrada.cz/udalost/hrani-vsemi-smysly/
END:VEVENT
BEGIN:VEVENT
DTSTART;TZID=Europe/Prague:20250618T183000
DTEND;TZID=Europe/Prague:20250618T194000
DTSTAMP:20260420T195652
CREATED:20250617T143723Z
LAST-MODIFIED:20250617T143723Z
UID:4331-1750271400-1750275600@krafferovazahrada.cz
SUMMARY:Jóga v Krafferově zahradě
DESCRIPTION:Cvičení jógy s lektorem Karlem Neradem. Rezervace ZDE.
URL:https://krafferovazahrada.cz/udalost/joga-v-krafferove-zahrade/
END:VEVENT
BEGIN:VEVENT
DTSTART;TZID=Europe/Prague:20250608T100000
DTEND;TZID=Europe/Prague:20250608T180000
DTSTAMP:20260420T195652
CREATED:20250101T183153Z
LAST-MODIFIED:20250101T183153Z
UID:3677-1749376800-1749405600@krafferovazahrada.cz
SUMMARY:Víkend otevřených zahrad
DESCRIPTION:Víkend otevřených zahrad je celoevropský svátek otevírání neobyčejných zahrad. Přijďte ho oslavit s námi do Krafferovy zahrady!
URL:https://krafferovazahrada.cz/udalost/vikend-otevrenych-zahrad-2/
END:VEVENT
BEGIN:VEVENT
DTSTART;TZID=Europe/Prague:20250607T100000
DTEND;TZID=Europe/Prague:20250607T180000
DTSTAMP:20260420T195652
CREATED:20250101T183102Z
LAST-MODIFIED:20250101T183102Z
UID:3675-1749290400-1749319200@krafferovazahrada.cz
SUMMARY:Víkend otevřených zahrad
DESCRIPTION:Víkend otevřených zahrad je celoevropský svátek otevírání neobyčejných zahrad. Přijďte ho oslavit s námi do Krafferovy zahrady!
URL:https://krafferovazahrada.cz/udalost/vikend-otevrenych-zahrad/
END:VEVENT
BEGIN:VEVENT
DTSTART;TZID=Europe/Prague:20250607T100000
DTEND;TZID=Europe/Prague:20250607T120000
DTSTAMP:20260420T195652
CREATED:20250326T073551Z
LAST-MODIFIED:20250326T073551Z
UID:3759-1749290400-1749297600@krafferovazahrada.cz
SUMMARY:Workshop přírodní kosmetiky – pleťový krém
DESCRIPTION:Chcete si vyzkoušet principy výroby domácí kosmetiky? Dotkněte se bylinek a na vlastní kůži a vyrobte si vlastní pleťový krém! Zveme vás na workshop\, který proběhne v naší zahradě během Víkendu otevřených zahrad. \nVstupenky a více informací zde.
URL:https://krafferovazahrada.cz/udalost/workshop-prirodni-kosmetiky-pletovy-krem/
END:VEVENT
BEGIN:VEVENT
DTSTART;TZID=Europe/Prague:20250524T170000
DTEND;TZID=Europe/Prague:20250524T200000
DTSTAMP:20260420T195652
CREATED:20250428T215622Z
LAST-MODIFIED:20250428T215622Z
UID:4033-1748106000-1748116800@krafferovazahrada.cz
SUMMARY:Setkání v zahradě
DESCRIPTION:Koncert písničkářky Petry Göbelové\, promítání animovaných filmů žáků ZUŠ\, sběr vašich podnětů a nápadů\nVíce informací zde.
URL:https://krafferovazahrada.cz/udalost/setkani-v-zahrade/
END:VEVENT
BEGIN:VEVENT
DTSTART;VALUE=DATE:20250523
DTEND;VALUE=DATE:20250525
DTSTAMP:20260420T195652
CREATED:20250428T215310Z
LAST-MODIFIED:20250428T215310Z
UID:4031-1747958400-1748131199@krafferovazahrada.cz
SUMMARY:OKNO-SWAP
DESCRIPTION:Výměnný bazárek oblečení pořádaný organizací Otevřená okna
URL:https://krafferovazahrada.cz/udalost/okno-swap/
END:VEVENT
BEGIN:VEVENT
DTSTART;TZID=Europe/Prague:20250517T100000
DTEND;TZID=Europe/Prague:20250517T160000
DTSTAMP:20260420T195652
CREATED:20250326T073020Z
LAST-MODIFIED:20250326T073020Z
UID:3756-1747476000-1747497600@krafferovazahrada.cz
SUMMARY:Mozaika – celodenní workshop
DESCRIPTION:Ponořte se do světa barevných střepů a vytvoříte si vlastní originální dílo – podnos\, zrcadlo\, květináč nebo dekoraci na zeď! Mozaika je krásná kreativní technika a relax zároveň.\nVstupenky a více informací zde.
URL:https://krafferovazahrada.cz/udalost/mozaika-celodenni-workshop/
END:VEVENT
BEGIN:VEVENT
DTSTART;TZID=Europe/Prague:20250510T090000
DTEND;TZID=Europe/Prague:20250510T120000
DTSTAMP:20260420T195652
CREATED:20250428T220636Z
LAST-MODIFIED:20250428T220636Z
UID:4048-1746867600-1746878400@krafferovazahrada.cz
SUMMARY:Férová snídaně
DESCRIPTION:
URL:https://krafferovazahrada.cz/udalost/ferova-snidane/
END:VEVENT
BEGIN:VEVENT
DTSTART;TZID=Europe/Prague:20250426T130000
DTEND;TZID=Europe/Prague:20250426T150000
DTSTAMP:20260420T195652
CREATED:20250101T181732Z
LAST-MODIFIED:20250101T182407Z
UID:3665-1745672400-1745679600@krafferovazahrada.cz
SUMMARY:Workshop Jarní kytice
DESCRIPTION:Květinový workshop v hlavní roli s jarními květinami. Krásnou jarní kytici zvládneme společně po krátkém teoretickém úvodu. Naučíte se jaká jsou specifika jarních květin a jak je správně pěstovat. Přihlášení ZDE. \n 
URL:https://krafferovazahrada.cz/udalost/workshop-jarni-kytice/
END:VEVENT
END:VCALENDAR